BEGIN:VCALENDAR
VERSION:2.0
PRODID:-//Kids with Food Allergies - ECPv6.15.18//NONSGML v1.0//EN
CALSCALE:GREGORIAN
METHOD:PUBLISH
X-WR-CALNAME:Kids with Food Allergies
X-ORIGINAL-URL:https://kidswithfoodallergies.org
X-WR-CALDESC:Events for Kids with Food Allergies
REFRESH-INTERVAL;VALUE=DURATION:PT1H
X-Robots-Tag:noindex
X-PUBLISHED-TTL:PT1H
BEGIN:VTIMEZONE
TZID:America/New_York
BEGIN:DAYLIGHT
TZOFFSETFROM:-0500
TZOFFSETTO:-0400
TZNAME:EDT
DTSTART:20250309T070000
END:DAYLIGHT
BEGIN:STANDARD
TZOFFSETFROM:-0400
TZOFFSETTO:-0500
TZNAME:EST
DTSTART:20251102T060000
END:STANDARD
BEGIN:DAYLIGHT
TZOFFSETFROM:-0500
TZOFFSETTO:-0400
TZNAME:EDT
DTSTART:20260308T070000
END:DAYLIGHT
BEGIN:STANDARD
TZOFFSETFROM:-0400
TZOFFSETTO:-0500
TZNAME:EST
DTSTART:20261101T060000
END:STANDARD
BEGIN:DAYLIGHT
TZOFFSETFROM:-0500
TZOFFSETTO:-0400
TZNAME:EDT
DTSTART:20270314T070000
END:DAYLIGHT
BEGIN:STANDARD
TZOFFSETFROM:-0400
TZOFFSETTO:-0500
TZNAME:EST
DTSTART:20271107T060000
END:STANDARD
END:VTIMEZONE
BEGIN:VEVENT
DTSTART;VALUE=DATE:20260504
DTEND;VALUE=DATE:20260505
DTSTAMP:20260424T023155
CREATED:20260420T141040Z
LAST-MODIFIED:20260420T141040Z
UID:10000019-1777852800-1777939199@kidswithfoodallergies.org
SUMMARY:National FPIES Awareness Day
DESCRIPTION:The first National FPIES Awareness Day took place on May 4\, 2015! This day is dedicated to creating and raising awareness about Food Protein-Induced Enterocolitis Syndrome (FPIES)\, a food allergy of the gastrointestinal system for which there is little awareness and no cure. On this day\, patients\, families\, and organizations from across the U.S. will work together with a common focus and message for FPIES and its symptoms. \nAs the result of the International FPIES Association’s advocacy efforts\, the United States Senate designated May 4th as National FPIES Awareness Day! More than 1\,000 supporters joined our national campaign by signing and sharing the I-FPIES petition to make this day official. In addition\, families in New Jersey and Pennsylvania shared with Senators Booker and Toomey what National FPIES Awareness Day would mean to them\, leading the lawmakers to sponsor and successfully pass Resolution 129 on March 27\, 2015.
URL:https://kidswithfoodallergies.org/event/national-fpies-awareness-day/
END:VEVENT
END:VCALENDAR